Workbook
Name Betrokkenen: OFFSET(Lijsten!$P$1,1,0,COUNTA(Categorieën!$B$31:$B$50),1)
Name Beveiliging: OFFSET(Lijsten!$AR$1,1,0,COUNTA(Categorieën!$B$119:$B$1386),1)
Name Derden: OFFSET(Lijsten!$AD$1,1,0,COUNTA(Categorieën!$B$75:$B$94),1)
Name Doeleinden: OFFSET(Lijsten!$AK$1,1,0,COUNTA(Categorieën!$B$97:$B$116),1)
Name Naam_sportclub: 'Gegevens sportclub'!$C$8
Name Persoonsgegevens: OFFSET(Lijsten!$I$1,1,0,COUNTA(Categorieën!$B$9:$B$28),1)
Name Verwerkingsactiviteiten: OFFSET(Lijsten!$W$1,1,0,COUNTA(Categorieën!$B$53:$B$72),1)
Name Wettelijke_grond: Lijsten!$B$2:$B$7

Sheet Handleiding
B2: ="REGISTER GEGEVENSVERWERKING"&" "&UPPER(Naam_sportclub) -> REGISTER GEGEVENSVERWERKING
B6: HANDLEIDING
B8: Dit document "Tool 3 Register van gegevensverwerking" hoort bij de vierde stap in het stappenplan "GDPR op maat van je sportclub". Lees zeker het document "Handleiding GDPR op maat van je sportclub" op de website van het Dynamo Project voor meer informatie over de andere stappen.
B10: Je gaat als volgt met dit document aan de slag.
B12: Tabblad: "Handleiding"
B13: Lees zeker eerst dit tabblad en gebruik de andere tabbladen in de juiste volgorde zoals hieronder omschreven. Verwijder dit tabblad zeker niet.
B14: Tabblad: "Gegevens sportclub"
B15: Vervolledig het tabblad "Gegevens sportclub". In dit tabblad noteer je enkele basisgegevens over je sportclub. Je kan deze informatie overnemen uit "Tool 1: Opmaak inventaris". Verwijder dit tabblad zeker niet.
B17: Tabblad: "Categorieën"
B18: Vervolledig vervolgens het tabblad "Categorieën".
B20: In dit tabblad zie je 6 soorten categorieën staan, met per categorie een lijst standaard opties. Pas deze opties aan naargelang de specifieke situatie van je sportclub. Je kan de opties overnemen uit "Tool 1: Opmaak inventaris" en "Tool 2: Toetsing GDPR".
B21: Verwijder dit tabblad zeker niet.
B23: Tabbladen "Verwerkingsactiviteit"
... B32: Vul vervolgens voor die verwerkingsactiviteit volgende gegevens in:
B33: Verwerkingsdoeleinden | C33: plaats je cursor in een cel, klik op het neerwaarts pijltje en kies een optie
B34: Betrokkenen | C34: plaats je cursor in een cel, klik op het neerwaarts pijltje en kies een optie
B35: Type gegevens | C35: plaats je cursor in een cel, klik op het neerwaarts pijltje en kies een optie
B36: Ontvangers | C36: plaats je cursor in een cel, klik op het neerwaarts pijltje en kies een optie
B37: Bewaringstermijn | C37: vul in hoe lang je de gegevens bewaart
B38: Rechtsgrond | C38: plaats je cursor in een cel, klik op het neerwaarts pijltje en kies een optie
B39: Beveiligingsmaatregelen | C39: plaats je cursor in een cel, klik op het neerwaarts pijltje en kies een optie
B40: Vul zoveel rijen in tot wanneer je voor die verwerkingsactiviteit alle gegevens hebt ingevuld. Indien gewenst kan je de naam van een ingevuld tabblad nog aanpassen.
B42: Herhaal deze werkwijze in de andere tabbladen "verwerkingsactiviteit", tot wanneer je alle verwerkingsactiviteiten binnen je club hebt ingevuld.
B44: Dit document voorziet 6 tabbladen "verwerkingsactiviteiten". Mogelijks heb je niet alle tabbladen nodig, in dat geval kan je de overige tabbladen verwijderen. Heb je meer dan 6 tabbladen nodig? Kopieer dan een tabblad zoveel als nodig.

Sheet Gegevens sportclub
B2: ="REGISTER GEGEVENSVERWERKING"&" "&UPPER(Naam_sportclub) -> REGISTER GEGEVENSVERWERKING
B6: GEGEVENS SPORTCLUB
B8: Naam sportclub :
B9: Adres sportclub :
B10: Rechtsvorm sportclub :
B11: Website sportclub:
B12: De sportclub is lid van de federatie: | C12: Vlaamse Wielrijdersbond
B14: Contactpersoon sportclub
B15: Naam:
B16: Telefoonnummer:
B17: E-mailadres:
B19: Verantwoordelijke voor de gegevensverwerking in sportclub
B20: Naam:
B21: Telefoonnummer:
B22: E-mailadres:
B23: Sinds:
B25: Verantwoordelijke voor de gegevensverwerking bij de federatie (optioneel)
B26: Naam: | C26: Alle medewerkers Vlaamse Wielrijdersbond
B27: Telefoonnummer: | C27: 052/332980
B28: E-mailadres: | C28: vwb@vwb.be

Sheet Categorieën
B2: ="REGISTER GEGEVENSVERWERKING"&" "&UPPER(Naam_sportclub) -> REGISTER GEGEVENSVERWERKING
B4: =IF(ISBLANK(P2)=TRUE," ",P2)
B6: CATEGORIEËN
B8: Welke categorieën van persoonsgegevens houdt je sportclub bij?
B9: beeldmateriaal: (digitale) foto's
B10: fysieke beschrijving: grootte, gewicht, onderscheidende fysieke kenmerken
B11: gevoelige gegevens: gegevens betreffende lichamelijke of psychische gezondheid (medische fiches): medisch dossier, medisch verslag, diagnose-informatie, behandeling, dieet, handicap, andere bijzondere vereisten ivm gezondheid
B12: gevoelige gegevens: raciale of etnische gegevens
B13: gevoelige gegevens: seksuele geaardheid
B14: persoonlijke identificatiegegevens: naam, adres, telefoonnummer, e-mailadres, leeftijd, geboortedatum, geboorteplaats, identiteitskaartnummer…
B15: psychische beschrijving: meningen betreffende persoonlijkheid of karakter
B16: rijksregisternummer
B17: vrijetijdsactiviteiten en interesses: hobby's, sport…
B30: Van wie houdt je sportclub persoonsgegevens bij?
... B125: technische maatregelen : privacyinstellingen

Sheet Verwerkingsactiviteit 1
B2: ="REGISTER GEGEVENSVERWERKING"&" "&UPPER(Naam_sportclub) -> REGISTER GEGEVENSVERWERKING
C6: Verwerkingsactiviteit: | D6: ledenadministratie
B8: Verwerkingsdoeleinden | C8: Betrokkenen | D8: Type gegevens | E8: Ontvangers | F8: Bewaringstermijn | G8: Rechtsgrond | H8: Beveiligingsmaatregelen
B9: Waarom worden de gegevens verwerkt? | C9: Van wie zijn de gegevens? | D9: Welke type gegevens zijn het? | E9: Aan wie zullen de gegevens worden verstrekt? | F9: Hoelang worden de gegevens bewaard? | G9: Wat is de wettelijke grondslag voor de verwerking? | H9: Welke maatregelen worden genomen om de gegevens te beveiligen?
B10: administratie van leden, vrijwilligers en sympathisanten van de vereniging | C10: leden | D10: rijksregisternummer | E10: federatie | F10: Tot zoland de overheid dit heeft opgelegd | G10: wettelijke verplichting | H10: standaardmaatregelen

Sheet Verwerkingsactiviteit 2
B2: ="REGISTER GEGEVENSVERWERKING"&" "&UPPER(Naam_sportclub) -> REGISTER GEGEVENSVERWERKING
C6: Verwerkingsactiviteit: | D6: registratie bij organisatie van activiteiten (competitie, opleidingen, evenementen…)
B8: Verwerkingsdoeleinden | C8: Betrokkenen | D8: Type gegevens | E8: Ontvangers | F8: Bewaringstermijn | G8: Rechtsgrond | H8: Beveiligingsmaatregelen
B9: Waarom worden de gegevens verwerkt? | C9: Van wie zijn de gegevens? | D9: Welke type gegevens zijn het? | E9: Aan wie zullen de gegevens worden verstrekt? | F9: Hoelang worden de gegevens bewaard? | G9: Wat is de wettelijke grondslag voor de verwerking? | H9: Welke maatregelen worden genomen om de gegevens te beveiligen?

Sheet Verwerkingsactiviteit 3
B2: ="REGISTER GEGEVENSVERWERKING"&" "&UPPER(Naam_sportclub) -> REGISTER GEGEVENSVERWERKING
C6: Verwerkingsactiviteit: | D6: ledenadministratie
B8: Verwerkingsdoeleinden | C8: Betrokkenen | D8: Type gegevens | E8: Ontvangers | F8: Bewaringstermijn | G8: Rechtsgrond | H8: Beveiligingsmaatregelen
B9: Waarom worden de gegevens verwerkt? | C9: Van wie zijn de gegevens? | D9: Welke type gegevens zijn het? | E9: Aan wie zullen de gegevens worden verstrekt? | F9: Hoelang worden de gegevens bewaard? | G9: Wat is de wettelijke grondslag voor de verwerking? | H9: Welke maatregelen worden genomen om de gegevens te beveiligen?

Sheet Verwerkingsactiviteit 4
B2: ="REGISTER GEGEVENSVERWERKING"&" "&UPPER(Naam_sportclub) -> REGISTER GEGEVENSVERWERKING
C6: Verwerkingsactiviteit:
B8: Verwerkingsdoeleinden | C8: Betrokkenen | D8: Type gegevens | E8: Ontvangers | F8: Bewaringstermijn | G8: Rechtsgrond | H8: Beveiligingsmaatregelen
B9: Waarom worden de gegevens verwerkt? | C9: Van wie zijn de gegevens? | D9: Welke type gegevens zijn het? | E9: Aan wie zullen de gegevens worden verstrekt? | F9: Hoelang worden de gegevens bewaard? | G9: Wat is de wettelijke grondslag voor de verwerking? | H9: Welke maatregelen worden genomen om de gegevens te beveiligen?

Sheet Verwerkingsactiviteit 5
B2: ="REGISTER GEGEVENSVERWERKING"&" "&UPPER(Naam_sportclub) -> REGISTER GEGEVENSVERWERKING
C6: Verwerkingsactiviteit:
B8: Verwerkingsdoeleinden | C8: Betrokkenen | D8: Type gegevens | E8: Ontvangers | F8: Bewaringstermijn | G8: Rechtsgrond | H8: Beveiligingsmaatregelen
B9: Waarom worden de gegevens verwerkt? | C9: Van wie zijn de gegevens? | D9: Welke type gegevens zijn het? | E9: Aan wie zullen de gegevens worden verstrekt? | F9: Hoelang worden de gegevens bewaard? | G9: Wat is de wettelijke grondslag voor de verwerking? | H9: Welke maatregelen worden genomen om de gegevens te beveiligen?

Sheet Verwerkingsactiviteit 6
B2: ="REGISTER GEGEVENSVERWERKING"&" "&UPPER(Naam_sportclub) -> REGISTER GEGEVENSVERWERKING
C6: Verwerkingsactiviteit:
B8: Verwerkingsdoeleinden | C8: Betrokkenen | D8: Type gegevens | E8: Ontvangers | F8: Bewaringstermijn | G8: Rechtsgrond | H8: Beveiligingsmaatregelen
B9: Waarom worden de gegevens verwerkt? | C9: Van wie zijn de gegevens? | D9: Welke type gegevens zijn het? | E9: Aan wie zullen de gegevens worden verstrekt? | F9: Hoelang worden de gegevens bewaard? | G9: Wat is de wettelijke grondslag voor de verwerking? | H9: Welke maatregelen worden genomen om de gegevens te beveiligen?

Sheet Lijsten
B1: wettelijke grond | D1: Persoonsgegevens | K1: Betrokkenen | R1: Verwerkingsactiviteiten | Y1: Derden | AF1: Doeleinden | AM1: Beveiligingsmaatregelen
B2: algemeen belang | D2: 1 | E2: =IF(ISBLANK(Categorieën!B9)=TRUE," ",Categorieën!B9) -> beeldmateriaal: (digitale) foto's | F2: {=SUM(IF(ISBLANK(Categorieën!B9)=TRUE,100,IF(Categorieën!B9>Categorieën!$B$9:$B$28,1,0)))+ROW()/100} -> 11.02 | G2: =SMALL($F$2:$F$21,ROW()-1) -> 11.02 | H2: {=SUM(IF(G2=$F$2:$F$21,$D$2:$D$21,0))} -> 1 | I2: =IF(ISBLANK(VLOOKUP($H2,$D$2:$E$21,2))=TRUE,"",VLOOKUP($H2,$D$2:$E$21,2)) -> beeldmateriaal: (digitale) foto's | K2: 1 | L2: =IF(ISBLANK(Categorieën!B31)=TRUE," ",Categorieën!B31) -> bestuurders | M2: {=SUM(IF(ISBLANK(Categorieën!B31)=TRUE,100,IF(Categorieën!B31>Categorieën!$B$31:$B$50,1,0)))+ROW()/100} -> 10.02 | N2: {=SMALL($M$2:$M$21,ROW()-1)} -> 10.02 | O2: {=SUM(IF(N2=$M$2:$M$21,$K$2:$K$21,0))} -> 1 | P2: {=IF(ISBLANK(VLOOKUP($O2,$K$2:$L$21,2))=TRUE,"",VLOOKUP($O2,$K$2:$L$21,2))} -> bestuurders | R2: 1 | S2: =IF(ISBLANK(Categorieën!B53)=TRUE," ",Categorieën!B53) -> ledenadministratie | T2: {=SUM(IF(ISBLANK(Categorieën!B53)=TRUE,100,IF(Categorieën!B53>Categorieën!$B$53:$B$72,1,0)))+ROW()/100} -> 18.02 | U2: {=SMALL($T$2:$T$21,ROW()-1)} -> 18.02 | V2: {=SUM(IF(U2=$T$2:$T$21,$R$2:$S$21,0))} -> 1 | W2: {=IF(ISBLANK(VLOOKUP($V2,$R$2:$S$21,2))=TRUE,"",VLOOKUP($V2,$R$2:$S$21,2))} -> ledenadministratie | Y2: 1 | Z2: {=IF(ISBLANK(Categorieën!B75)=TRUE," ",Categorieën!B75)} -> lokale overheid / gemeente | AA2: {=SUM(IF(ISBLANK(Categorieën!B75)=TRUE,100,IF(Categorieën!B75>Categorieën!$B$75:$B$94,1,0)))+ROW()/100} -> 15.02 | AB2: {=SMALL($AA$2:$AA$21,ROW()-1)} -> 14.03 | AC2: {=SUM(IF(AB2=$AA$2:$AA$21,$Y$2:$Y$21,0))} -> 2 | AD2: {=IF(ISBLANK(VLOOKUP($AC2,$Y$2:$Z$21,2))=TRUE,"",VLOOKUP($AC2,$Y$2:$Z$21,2))} -> federatie | AF2: 1 | AG2: =IF(ISBLANK(Categorieën!B97)=TRUE," ",Categorieën!B97) -> administratie van deelnemers aan organisaties | AH2: {=SUM(IF(ISBLANK(Categorieën!B97)=TRUE,100,IF(Categorieën!B97>Categorieën!$B$97:$B$116,1,0)))+ROW()/100} -> 8.02 | AI2: {=SMALL($AH$2:$AH$21,ROW()-1)} -> 8.02 | AJ2: {=SUM(IF(AI2=$AH$2:$AH$21,$AF$2:$AF$21,0))} -> 1 | AK2: {=IF(ISBLANK(VLOOKUP($AJ2,$AF$2:$AG$21,2))=TRUE,"",VLOOKUP($AJ2,$AF$2:$AG$21,2))} -> administratie van deelnemers aan organisaties | AM2: 1 | AN2: =IF(ISBLANK(Categorieën!B119)=TRUE," ",Categorieën!B119) -> standaardmaatregelen | AO2: {=SUM(IF(ISBLANK(Categorieën!B119)=TRUE,100,IF(Categorieën!B119>Categorieën!$B$119:$B$138,1,0)))+ROW()/100} -> 16.02 | AP2: =SMALL($AO$2:$AO$21,ROW()-1) -> 13.03 | AQ2: {=SUM(IF(AP2=$AO$2:$AO$21,$AM$2:$AM$21,0))} -> 2 | AR2: {=IF(ISBLANK(VLOOKUP($AQ2,$AM$2:$AN$21,2))=TRUE,"",VLOOKUP($AQ2,$AM$2:$AN$21,2))} -> organisatorische maatregel: enkel de secretaris kan aan het bestand
B3: contractuele grond | D3: 2 | E3: =IF(ISBLANK(Categorieën!B10)=TRUE," ",Categorieën!B10) -> fysieke beschrijving: grootte, gewicht, onderscheidende fysieke kenmerken | F3: {=SUM(IF(ISBLANK(Categorieën!B10)=TRUE,100,IF(Categorieën!B10>Categorieën!$B$9:$B$28,1,0)))+ROW()/100} -> 12.03 | G3: {=SMALL($F$2:$F$21,ROW()-1)} -> 12.03 | H3: {=SUM(IF(G3=$F$2:$F$21,$D$2:$D$21,0))} -> 2 | I3: =IF(ISBLANK(VLOOKUP($H3,$D$2:$E$21,2))=TRUE,"",VLOOKUP($H3,$D$2:$E$21,2)) -> fysieke beschrijving: grootte, gewicht, onderscheidende fysieke kenmerken | K3: 2 | L3: =IF(ISBLANK(Categorieën!B32)=TRUE," ",Categorieën!B32) -> deelnemers | M3: {=SUM(IF(ISBLANK(Categorieën!B32)=TRUE,100,IF(Categorieën!B32>Categorieën!$B$31:$B$50,1,0)))+ROW()/100} -> 12.03 | N3: {=SMALL($M$2:$M$21,ROW()-1)} -> 11.11 | O3: {=SUM(IF(N3=$M$2:$M$21,$K$2:$K$21,0))} -> 10 | P3: {=IF(ISBLANK(VLOOKUP($O3,$K$2:$L$21,2))=TRUE,"",VLOOKUP($O3,$K$2:$L$21,2))} -> contacten binnen andere organisaties | R3: 2 | S3: =IF(ISBLANK(Categorieën!B54)=TRUE," ",Categorieën!B54) -> registratie bij organisatie van activiteiten (competitie, opleidingen, evenementen…) | T3: {=SUM(IF(ISBLANK(Categorieën!B54)=TRUE,100,IF(Categorieën!B54>Categorieën!$B$53:$B$72,1,0)))+ROW()/100} -> 19.03 | U3: {=SMALL($T$2:$T$21,ROW()-1)} -> 19.03 | V3: {=SUM(IF(U3=$T$2:$T$21,$R$2:$S$21,0))} -> 2 | W3: {=IF(ISBLANK(VLOOKUP($V3,$R$2:$S$21,2))=TRUE,"",VLOOKUP($V3,$R$2:$S$21,2))} -> registratie bij organisatie van activiteiten (competitie, opleidingen, evenementen…) | Y3: 2 | Z3: =IF(ISBLANK(Categorieën!B76)=TRUE," ",Categorieën!B76) -> federatie | AA3: {=SUM(IF(ISBLANK(Categorieën!B76)=TRUE,100,IF(Categorieën!B76>Categorieën!$B$75:$B$94,1,0)))+ROW()/100} -> 14.03 | AB3: {=SMALL($AA$2:$AA$21,ROW()-1)} -> 15.02 | AC3: {=SUM(IF(AB3=$AA$2:$AA$21,$Y$2:$Y$21,0))} -> 1 | AD3: {=IF(ISBLANK(VLOOKUP($AC3,$Y$2:$Z$21,2))=TRUE,"",VLOOKUP($AC3,$Y$2:$Z$21,2))} -> lokale overheid / gemeente | AF3: 2 | AG3: =IF(ISBLANK(Categorieën!B98)=TRUE," ",Categorieën!B98) -> begeleiding van deelnemers aan organisaties (verlenen van psychische of materiële ondersteuning) | AH3: {=SUM(IF(ISBLANK(Categorieën!B98)=TRUE,100,IF(Categorieën!B98>Categorieën!$B$97:$B$116,1,0)))+ROW()/100} -> 10.03 | AI3: {=SMALL($AH$2:$AH$21,ROW()-1)} -> 9.08 | AJ3: {=SUM(IF(AI3=$AH$2:$AH$21,$AF$2:$AF$21,0))} -> 7 | AK3: {=IF(ISBLANK(VLOOKUP($AJ3,$AF$2:$AG$21,2))=TRUE,"",VLOOKUP($AJ3,$AF$2:$AG$21,2))} -> administratie van leden, vrijwilligers en sympathisanten van de vereniging | AM3: 2 | AN3: =IF(ISBLANK(Categorieën!B120)=TRUE," ",Categorieën!B120) -> organisatorische maatregel: enkel de secretaris kan aan het bestand | AO3: {=SUM(IF(ISBLANK(Categorieën!B120)=TRUE,100,IF(Categorieën!B120>Categorieën!$B$119:$B$138,1,0)))+ROW()/100} -> 13.03 | AP3: =SMALL($AO$2:$AO$21,ROW()-1) -> 14.04 | AQ3: {=SUM(IF(AP3=$AO$2:$AO$21,$AM$2:$AM$21,0))} -> 3 | AR3: {=IF(ISBLANK(VLOOKUP($AQ3,$AM$2:$AN$21,2))=TRUE,"",VLOOKUP($AQ3,$AM$2:$AN$21,2))} -> organisatorische maatregel: materiaal enkel op eigen site
B4: gerechtvaardigd belang | D4: 3 | E4: =IF(ISBLANK(Categorieën!B11)=TRUE," ",Categorieën!B11) -> gevoelige gegevens: gegevens betreffende lichamelijke of psychische gezondheid (medische fiches): medisch dossier, medisch verslag, diagnose-informatie, behandeling, dieet, handicap, andere bijzondere vereisten ivm gezondheid | F4: {=SUM(IF(ISBLANK(Categorieën!B11)=TRUE,100,IF(Categorieën!B11>Categorieën!$B$9:$B$28,1,0)))+ROW()/100} -> 13.04 | G4: {=SMALL($F$2:$F$21,ROW()-1)} -> 13.04 | H4: {=SUM(IF(G4=$F$2:$F$21,$D$2:$D$21,0))} -> 3 | I4: =IF(ISBLANK(VLOOKUP($H4,$D$2:$E$21,2))=TRUE,"",VLOOKUP($H4,$D$2:$E$21,2)) -> gevoelige gegevens: gegevens betreffende lichamelijke of psychische gezondheid (medische fiches): medisch dossier, medisch verslag, diagnose-informatie, behandeling, dieet, handicap, andere bijzondere vereisten ivm gezondheid | K4: 3 | L4: =IF(ISBLANK(Categorieën!B33)=TRUE," ",Categorieën!B33) -> leden | M4: {=SUM(IF(ISBLANK(Categorieën!B33)=TRUE,100,IF(Categorieën!B33>Categorieën!$B$31:$B$50,1,0)))+ROW()/100} -> 13.04 | N4: {=SMALL($M$2:$M$21,ROW()-1)} -> 12.03 | O4: {=SUM(IF(N4=$M$2:$M$21,$K$2:$K$21,0))} -> 2 | P4: {=IF(ISBLANK(VLOOKUP($O4,$K$2:$L$21,2))=TRUE,"",VLOOKUP($O4,$K$2:$L$21,2))} -> deelnemers | R4: 3 | S4: =IF(ISBLANK(Categorieën!B55)=TRUE," ",Categorieën!B55) | T4: {=SUM(IF(ISBLANK(Categorieën!B55)=TRUE,100,IF(Categorieën!B55>Categorieën!$B$53:$B$72,1,0)))+ROW()/100} -> 100.04 | U4: {=SMALL($T$2:$T$21,ROW()-1)} -> 100.04 | V4: {=SUM(IF(U4=$T$2:$T$21,$R$2:$S$21,0))} -> 3 | W4: {=IF(ISBLANK(VLOOKUP($V4,$R$2:$S$21,2))=TRUE,"",VLOOKUP($V4,$R$2:$S$21,2))} | Y4: 3 | Z4: =IF(ISBLANK(Categorieën!B77)=TRUE," ",Categorieën!B77) -> partnerorganisatie | AA4: {=SUM(IF(ISBLANK(Categorieën!B77)=TRUE,100,IF(Categorieën!B77>Categorieën!$B$75:$B$94,1,0)))+ROW()/100} -> 16.04 | AB4: {=SMALL($AA$2:$AA$21,ROW()-1)} -> 16.04 | AC4: {=SUM(IF(AB4=$AA$2:$AA$21,$Y$2:$Y$21,0))} -> 3 | AD4: {=IF(ISBLANK(VLOOKUP($AC4,$Y$2:$Z$21,2))=TRUE,"",VLOOKUP($AC4,$Y$2:$Z$21,2))} -> partnerorganisatie | AF4: 3 | AG4: =IF(ISBLANK(Categorieën!B99)=TRUE," ",Categorieën!B99) -> communicatie met de deelnemers aan organisaties | AH4: {=SUM(IF(ISBLANK(Categorieën!B99)=TRUE,100,IF(Categorieën!B99>Categorieën!$B$97:$B$116,1,0)))+ROW()/100} -> 12.04 | AI4: {=SMALL($AH$2:$AH$21,ROW()-1)} -> 10.03 | AJ4: {=SUM(IF(AI4=$AH$2:$AH$21,$AF$2:$AF$21,0))} -> 2 | AK4: =IF(ISBLANK(VLOOKUP($AJ4,$AF$2:$AG$21,2))=TRUE,"",VLOOKUP($AJ4,$AF$2:$AG$21,2)) -> begeleiding van deelnemers aan organisaties (verlenen van psychische of materiële ondersteuning) | AM4: 3 | AN4: =IF(ISBLANK(Categorieën!B121)=TRUE," ",Categorieën!B121) -> organisatorische maatregel: materiaal enkel op eigen site | AO4: {=SUM(IF(ISBLANK(Categorieën!B121)=TRUE,100,IF(Categorieën!B121>Categorieën!$B$119:$B$138,1,0)))+ROW()/100} -> 14.04 | AP4: =SMALL($AO$2:$AO$21,ROW()-1) -> 15.05 | AQ4: {=SUM(IF(AP4=$AO$2:$AO$21,$AM$2:$AM$21,0))} -> 4 | AR4: {=IF(ISBLANK(VLOOKUP($AQ4,$AM$2:$AN$21,2))=TRUE,"",VLOOKUP($AQ4,$AM$2:$AN$21,2))} -> organisatorische maatregel: medische fiches worden bijgehouden in gesloten koffer
B5: toestemming | D5: 4 | E5: =IF(ISBLANK(Categorieën!B12)=TRUE," ",Categorieën!B12) -> gevoelige gegevens: raciale of etnische gegevens | F5: {=SUM(IF(ISBLANK(Categorieën!B12)=TRUE,100,IF(Categorieën!B12>Categorieën!$B$9:$B$28,1,0)))+ROW()/100} -> 14.05 | G5: {=SMALL($F$2:$F$21,ROW()-1)} -> 14.05 | H5: {=SUM(IF(G5=$F$2:$F$21,$D$2:$D$21,0))} -> 4 | I5: =IF(ISBLANK(VLOOKUP($H5,$D$2:$E$21,2))=TRUE,"",VLOOKUP($H5,$D$2:$E$21,2)) -> gevoelige gegevens: raciale of etnische gegevens | K5: 4 | L5: =IF(ISBLANK(Categorieën!B34)=TRUE," ",Categorieën!B34) -> ouders van leden | M5: {=SUM(IF(ISBLANK(Categorieën!B34)=TRUE,100,IF(Categorieën!B34>Categorieën!$B$31:$B$50,1,0)))+ROW()/100} -> 15.05 | N5: {=SMALL($M$2:$M$21,ROW()-1)} -> 13.04 | O5: {=SUM(IF(N5=$M$2:$M$21,$K$2:$K$21,0))} -> 3 | P5: {=IF(ISBLANK(VLOOKUP($O5,$K$2:$L$21,2))=TRUE,"",VLOOKUP($O5,$K$2:$L$21,2))} -> leden | R5: 4 | S5: =IF(ISBLANK(Categorieën!B56)=TRUE," ",Categorieën!B56) | T5: {=SUM(IF(ISBLANK(Categorieën!B56)=TRUE,100,IF(Categorieën!B56>Categorieën!$B$53:$B$72,1,0)))+ROW()/100} -> 100.05 | U5: {=SMALL($T$2:$T$21,ROW()-1)} -> 100.05 | V5: {=SUM(IF(U5=$T$2:$T$21,$R$2:$S$21,0))} -> 4 | W5: {=IF(ISBLANK(VLOOKUP($V5,$R$2:$S$21,2))=TRUE,"",VLOOKUP($V5,$R$2:$S$21,2))} | Y5: 4 | Z5: =IF(ISBLANK(Categorieën!B78)=TRUE," ",Categorieën!B78) -> sponsor | AA5: {=SUM(IF(ISBLANK(Categorieën!B78)=TRUE,100,IF(Categorieën!B78>Categorieën!$B$75:$B$94,1,0)))+ROW()/100} -> 17.05 | AB5: {=SMALL($AA$2:$AA$21,ROW()-1)} -> 17.05 | AC5: {=SUM(IF(AB5=$AA$2:$AA$21,$Y$2:$Y$21,0))} -> 4 | AD5: {=IF(ISBLANK(VLOOKUP($AC5,$Y$2:$Z$21,2))=TRUE,"",VLOOKUP($AC5,$Y$2:$Z$21,2))} -> sponsor | AF5: 4 | AG5: =IF(ISBLANK(Categorieën!B100)=TRUE," ",Categorieën!B100) -> leveren van voordelen voor deelnemers aan organisaties | AH5: {=SUM(IF(ISBLANK(Categorieën!B100)=TRUE,100,IF(Categorieën!B100>Categorieën!$B$97:$B$116,1,0)))+ROW()/100} -> 15.05 | AI5: {=SMALL($AH$2:$AH$21,ROW()-1)} -> 11.09 | AJ5: {=SUM(IF(AI5=$AH$2:$AH$21,$AF$2:$AF$21,0))} -> 8 | AK5: =IF(ISBLANK(VLOOKUP($AJ5,$AF$2:$AG$21,2))=TRUE,"",VLOOKUP($AJ5,$AF$2:$AG$21,2)) -> begeleiding van leden (verlenen van psychische of materiële ondersteuning) | AM5: 4 | AN5: =IF(ISBLANK(Categorieën!B122)=TRUE," ",Categorieën!B122) -> organisatorische maatregel: medische fiches worden bijgehouden in gesloten koffer | AO5: {=SUM(IF(ISBLANK(Categorieën!B122)=TRUE,100,IF(Categorieën!B122>Categorieën!$B$119:$B$138,1,0)))+ROW()/100} -> 15.05 | AP5: =SMALL($AO$2:$AO$21,ROW()-1) -> 16.02 | AQ5: {=SUM(IF(AP5=$AO$2:$AO$21,$AM$2:$AM$21,0))} -> 1 | AR5: {=IF(ISBLANK(VLOOKUP($AQ5,$AM$2:$AN$21,2))=TRUE,"",VLOOKUP($AQ5,$AM$2:$AN$21,2))} -> standaardmaatregelen
B6: vitaal belang | D6: 5 | E6: =IF(ISBLANK(Categorieën!B13)=TRUE," ",Categorieën!B13) -> gevoelige gegevens: seksuele geaardheid | F6: {=SUM(IF(ISBLANK(Categorieën!B13)=TRUE,100,IF(Categorieën!B13>Categorieën!$B$9:$B$28,1,0)))+ROW()/100} -> 15.06 | G6: {=SMALL($F$2:$F$21,ROW()-1)} -> 15.06 | H6: {=SUM(IF(G6=$F$2:$F$21,$D$2:$D$21,0))} -> 5 | I6: =IF(ISBLANK(VLOOKUP($H6,$D$2:$E$21,2))=TRUE,"",VLOOKUP($H6,$D$2:$E$21,2)) -> gevoelige gegevens: seksuele geaardheid | K6: 5 | L6: =IF(ISBLANK(Categorieën!B35)=TRUE," ",Categorieën!B35) -> sponsors | M6: {=SUM(IF(ISBLANK(Categorieën!B35)=TRUE,100,IF(Categorieën!B35>Categorieën!$B$31:$B$50,1,0)))+ROW()/100} -> 17.06 | N6: {=SMALL($M$2:$M$21,ROW()-1)} -> 14.1 | O6: {=SUM(IF(N6=$M$2:$M$21,$K$2:$K$21,0))} -> 9 | P6: {=IF(ISBLANK(VLOOKUP($O6,$K$2:$L$21,2))=TRUE,"",VLOOKUP($O6,$K$2:$L$21,2))} -> medewerkers overheid / federatie | R6: 5 | S6: =IF(ISBLANK(Categorieën!B57)=TRUE," ",Categorieën!B57) | T6: {=SUM(IF(ISBLANK(Categorieën!B57)=TRUE,100,IF(Categorieën!B57>Categorieën!$B$53:$B$72,1,0)))+ROW()/100} -> 100.06 | U6: {=SMALL($T$2:$T$21,ROW()-1)} -> 100.06 | V6: {=SUM(IF(U6=$T$2:$T$21,$R$2:$S$21,0))} -> 5 | W6: {=IF(ISBLANK(VLOOKUP($V6,$R$2:$S$21,2))=TRUE,"",VLOOKUP($V6,$R$2:$S$21,2))} | Y6: 5 | Z6: =IF(ISBLANK(Categorieën!B79)=TRUE," ",Categorieën!B79) -> verzekeraar | AA6: {=SUM(IF(ISBLANK(Categorieën!B79)=TRUE,100,IF(Categorieën!B79>Categorieën!$B$75:$B$94,1,0)))+ROW()/100} -> 18.06 | AB6: {=SMALL($AA$2:$AA$21,ROW()-1)} -> 18.06 | AC6: {=SUM(IF(AB6=$AA$2:$AA$21,$Y$2:$Y$21,0))} -> 5 | AD6: {=IF(ISBLANK(VLOOKUP($AC6,$Y$2:$Z$21,2))=TRUE,"",VLOOKUP($AC6,$Y$2:$Z$21,2))} -> verzekeraar | AF6: 5 | AG6: =IF(ISBLANK(Categorieën!B101)=TRUE," ",Categorieën!B101) -> marktonderzoek: studies aangaande het vrijetijdsgedrag, voorkeuren ter bepaling van marktstrategieën | AH6: {=SUM(IF(ISBLANK(Categorieën!B101)=TRUE,100,IF(Categorieën!B101>Categorieën!$B$97:$B$116,1,0)))+ROW()/100} -> 16.06 | AI6: {=SMALL($AH$2:$AH$21,ROW()-1)} -> 12.04 | AJ6: {=SUM(IF(AI6=$AH$2:$AH$21,$AF$2:$AF$21,0))} -> 3 | AK6: =IF(ISBLANK(VLOOKUP($AJ6,$AF$2:$AG$21,2))=TRUE,"",VLOOKUP($AJ6,$AF$2:$AG$21,2)) -> communicatie met de deelnemers aan organisaties | AM6: 5 | AN6: =IF(ISBLANK(Categorieën!B123)=TRUE," ",Categorieën!B123) -> technische maatregel: encryptie | AO6: {=SUM(IF(ISBLANK(Categorieën!B123)=TRUE,100,IF(Categorieën!B123>Categorieën!$B$119:$B$138,1,0)))+ROW()/100} -> 17.06 | AP6: =SMALL($AO$2:$AO$21,ROW()-1) -> 17.06 | AQ6: {=SUM(IF(AP6=$AO$2:$AO$21,$AM$2:$AM$21,0))} -> 5 | AR6: {=IF(ISBLANK(VLOOKUP($AQ6,$AM$2:$AN$21,2))=TRUE,"",VLOOKUP($AQ6,$AM$2:$AN$21,2))} -> technische maatregel: encryptie
B7: wettelijke verplichting | D7: 6 | E7: =IF(ISBLANK(Categorieën!B14)=TRUE," ",Categorieën!B14) -> persoonlijke identificatiegegevens: naam, adres, telefoonnummer, e-mailadres, leeftijd, geboortedatum, geboorteplaats, identiteitskaartnummer… | F7: {=SUM(IF(ISBLANK(Categorieën!B14)=TRUE,100,IF(Categorieën!B14>Categorieën!$B$9:$B$28,1,0)))+ROW()/100} -> 16.07 | G7: {=SMALL($F$2:$F$21,ROW()-1)} -> 16.07 | H7: {=SUM(IF(G7=$F$2:$F$21,$D$2:$D$21,0))} -> 6 | I7: =IF(ISBLANK(VLOOKUP($H7,$D$2:$E$21,2))=TRUE,"",VLOOKUP($H7,$D$2:$E$21,2)) -> persoonlijke identificatiegegevens: naam, adres, telefoonnummer, e-mailadres, leeftijd, geboortedatum, geboorteplaats, identiteitskaartnummer… | K7: 6 | L7: =IF(ISBLANK(Categorieën!B36)=TRUE," ",Categorieën!B36) -> sympathisanten | M7: {=SUM(IF(ISBLANK(Categorieën!B36)=TRUE,100,IF(Categorieën!B36>Categorieën!$B$31:$B$50,1,0)))+ROW()/100} -> 18.07 | N7: {=SMALL($M$2:$M$21,ROW()-1)} -> 15.05 | O7: {=SUM(IF(N7=$M$2:$M$21,$K$2:$K$21,0))} -> 4 | P7: {=IF(ISBLANK(VLOOKUP($O7,$K$2:$L$21,2))=TRUE,"",VLOOKUP($O7,$K$2:$L$21,2))} -> ouders van leden | R7: 6 | S7: =IF(ISBLANK(Categorieën!B58)=TRUE," ",Categorieën!B58) | T7: {=SUM(IF(ISBLANK(Categorieën!B58)=TRUE,100,IF(Categorieën!B58>Categorieën!$B$53:$B$72,1,0)))+ROW()/100} -> 100.07 | U7: {=SMALL($T$2:$T$21,ROW()-1)} -> 100.07 | V7: {=SUM(IF(U7=$T$2:$T$21,$R$2:$S$21,0))} -> 6 | W7: {=IF(ISBLANK(VLOOKUP($V7,$R$2:$S$21,2))=TRUE,"",VLOOKUP($V7,$R$2:$S$21,2))} | Y7: 6 | Z7: =IF(ISBLANK(Categorieën!B80)=TRUE," ",Categorieën!B80) -> Vlaamse overheid (Sport Vlaanderen) | AA7: {=SUM(IF(ISBLANK(Categorieën!B80)=TRUE,100,IF(Categorieën!B80>Categorieën!$B$75:$B$94,1,0)))+ROW()/100} -> 19.07 | AB7: {=SMALL($AA$2:$AA$21,ROW()-1)} -> 19.07 | AC7: {=SUM(IF(AB7=$AA$2:$AA$21,$Y$2:$Y$21,0))} -> 6 | AD7: {=IF(ISBLANK(VLOOKUP($AC7,$Y$2:$Z$21,2))=TRUE,"",VLOOKUP($AC7,$Y$2:$Z$21,2))} -> Vlaamse overheid (Sport Vlaanderen) | AF7: 6 | AG7: =IF(ISBLANK(Categorieën!B102)=TRUE," ",Categorieën!B102) -> verzekering van deelnemers aan organisaties | AH7: {=SUM(IF(ISBLANK(Categorieën!B102)=TRUE,100,IF(Categorieën!B102>Categorieën!$B$97:$B$116,1,0)))+ROW()/100} -> 18.07 | AI7: {=SMALL($AH$2:$AH$21,ROW()-1)} -> 13.1 | AJ7: {=SUM(IF(AI7=$AH$2:$AH$21,$AF$2:$AF$21,0))} -> 9 | AK7: =IF(ISBLANK(VLOOKUP($AJ7,$AF$2:$AG$21,2))=TRUE,"",VLOOKUP($AJ7,$AF$2:$AG$21,2)) -> communicatie met leden ( nieuwsbrief, mailing, boekje,…) | AM7: 6 | AN7: =IF(ISBLANK(Categorieën!B124)=TRUE," ",Categorieën!B124) -> technische maatregel: firewall | AO7: {=SUM(IF(ISBLANK(Categorieën!B124)=TRUE,100,IF(Categorieën!B124>Categorieën!$B$119:$B$138,1,0)))+ROW()/100} -> 18.07 | AP7: =SMALL($AO$2:$AO$21,ROW()-1) -> 18.07 | AQ7: {=SUM(IF(AP7=$AO$2:$AO$21,$AM$2:$AM$21,0))} -> 6 | AR7: {=IF(ISBLANK(VLOOKUP($AQ7,$AM$2:$AN$21,2))=TRUE,"",VLOOKUP($AQ7,$AM$2:$AN$21,2))} -> technische maatregel: firewall
D8: 7 | E8: =IF(ISBLANK(Categorieën!B15)=TRUE," ",Categorieën!B15) -> psychische beschrijving: meningen betreffende persoonlijkheid of karakter | F8: {=SUM(IF(ISBLANK(Categorieën!B15)=TRUE,100,IF(Categorieën!B15>Categorieën!$B$9:$B$28,1,0)))+ROW()/100} -> 17.08 | G8: {=SMALL($F$2:$F$21,ROW()-1)} -> 17.08 | H8: {=SUM(IF(G8=$F$2:$F$21,$D$2:$D$21,0))} -> 7 | I8: =IF(ISBLANK(VLOOKUP($H8,$D$2:$E$21,2))=TRUE,"",VLOOKUP($H8,$D$2:$E$21,2)) -> psychische beschrijving: meningen betreffende persoonlijkheid of karakter | K8: 7 | L8: =IF(ISBLANK(Categorieën!B37)=TRUE," ",Categorieën!B37) -> vrijwilligers | M8: {=SUM(IF(ISBLANK(Categorieën!B37)=TRUE,100,IF(Categorieën!B37>Categorieën!$B$31:$B$50,1,0)))+ROW()/100} -> 19.08 | N8: {=SMALL($M$2:$M$21,ROW()-1)} -> 16.09 | O8: {=SUM(IF(N8=$M$2:$M$21,$K$2:$K$21,0))} -> 8 | P8: {=IF(ISBLANK(VLOOKUP($O8,$K$2:$L$21,2))=TRUE,"",VLOOKUP($O8,$K$2:$L$21,2))} -> personeel | R8: 7 | S8: =IF(ISBLANK(Categorieën!B59)=TRUE," ",Categorieën!B59) | T8: {=SUM(IF(ISBLANK(Categorieën!B59)=TRUE,100,IF(Categorieën!B59>Categorieën!$B$53:$B$72,1,0)))+ROW()/100} -> 100.08 | U8: {=SMALL($T$2:$T$21,ROW()-1)} -> 100.08 | V8: {=SUM(IF(U8=$T$2:$T$21,$R$2:$S$21,0))} -> 7 | W8: {=IF(ISBLANK(VLOOKUP($V8,$R$2:$S$21,2))=TRUE,"",VLOOKUP($V8,$R$2:$S$21,2))} | Y8: 7 | Z8: =IF(ISBLANK(Categorieën!B81)=TRUE," ",Categorieën!B81) | AA8: {=SUM(IF(ISBLANK(Categorieën!B81)=TRUE,100,IF(Categorieën!B81>Categorieën!$B$75:$B$94,1,0)))+ROW()/100} -> 100.08 | AB8: {=SMALL($AA$2:$AA$21,ROW()-1)} -> 100.08 | AC8: {=SUM(IF(AB8=$AA$2:$AA$21,$Y$2:$Y$21,0))} -> 7 | AD8: {=IF(ISBLANK(VLOOKUP($AC8,$Y$2:$Z$21,2))=TRUE,"",VLOOKUP($AC8,$Y$2:$Z$21,2))} | AF8: 7 | AG8: =IF(ISBLANK(Categorieën!B103)=TRUE," ",Categorieën!B103) -> administratie van leden, vrijwilligers en sympathisanten van de vereniging | AH8: {=SUM(IF(ISBLANK(Categorieën!B103)=TRUE,100,IF(Categorieën!B103>Categorieën!$B$97:$B$116,1,0)))+ROW()/100} -> 9.08 | AI8: {=SMALL($AH$2:$AH$21,ROW()-1)} -> 14.11 | AJ8: {=SUM(IF(AI8=$AH$2:$AH$21,$AF$2:$AF$21,0))} -> 10 | AK8: =IF(ISBLANK(VLOOKUP($AJ8,$AF$2:$AG$21,2))=TRUE,"",VLOOKUP($AJ8,$AF$2:$AG$21,2)) -> leveren van lidkaarten en voordelen aan leden | AM8: 7 | AN8: =IF(ISBLANK(Categorieën!B125)=TRUE," ",Categorieën!B125) -> technische maatregelen : privacyinstellingen | AO8: {=SUM(IF(ISBLANK(Categorieën!B125)=TRUE,100,IF(Categorieën!B125>Categorieën!$B$119:$B$138,1,0)))+ROW()/100} -> 19.08 | AP8: =SMALL($AO$2:$AO$21,ROW()-1) -> 19.08 | AQ8: {=SUM(IF(AP8=$AO$2:$AO$21,$AM$2:$AM$21,0))} -> 7 | AR8: {=IF(ISBLANK(VLOOKUP($AQ8,$AM$2:$AN$21,2))=TRUE,"",VLOOKUP($AQ8,$AM$2:$AN$21,2))} -> technische maatregelen : privacyinstellingen
D9: 8 | E9: =IF(ISBLANK(Categorieën!B16)=TRUE," ",Categorieën!B16) -> rijksregisternummer | F9: {=SUM(IF(ISBLANK(Categorieën!B16)=TRUE,100,IF(Categorieën!B16>Categorieën!$B$9:$B$28,1,0)))+ROW()/100} -> 18.09 | G9: {=SMALL($F$2:$F$21,ROW()-1)} -> 18.09 | H9: {=SUM(IF(G9=$F$2:$F$21,$D$2:$D$21,0))} -> 8 | I9: =IF(ISBLANK(VLOOKUP($H9,$D$2:$E$21,2))=TRUE,"",VLOOKUP($H9,$D$2:$E$21,2)) -> rijksregisternummer | K9: 8 | L9: =IF(ISBLANK(Categorieën!B38)=TRUE," ",Categorieën!B38) -> personeel | M9: {=SUM(IF(ISBLANK(Categorieën!B38)=TRUE,100,IF(Categorieën!B38>Categorieën!$B$31:$B$50,1,0)))+ROW()/100} -> 16.09 | N9: {=SMALL($M$2:$M$21,ROW()-1)} -> 17.06 | O9: {=SUM(IF(N9=$M$2:$M$21,$K$2:$K$21,0))} -> 5 | P9: {=IF(ISBLANK(VLOOKUP($O9,$K$2:$L$21,2))=TRUE,"",VLOOKUP($O9,$K$2:$L$21,2))} -> sponsors | R9: 8 | S9: =IF(ISBLANK(Categorieën!B60)=TRUE," ",Categorieën!B60) | T9: {=SUM(IF(ISBLANK(Categorieën!B60)=TRUE,100,IF(Categorieën!B60>Categorieën!$B$53:$B$72,1,0)))+ROW()/100} -> 100.09 | U9: {=SMALL($T$2:$T$21,ROW()-1)} -> 100.09 | V9: {=SUM(IF(U9=$T$2:$T$21,$R$2:$S$21,0))} -> 8 | W9: {=IF(ISBLANK(VLOOKUP($V9,$R$2:$S$21,2))=TRUE,"",VLOOKUP($V9,$R$2:$S$21,2))} | Y9: 8 | Z9: =IF(ISBLANK(Categorieën!B82)=TRUE," ",Categorieën!B82) | AA9: {=SUM(IF(ISBLANK(Categorieën!B82)=TRUE,100,IF(Categorieën!B82>Categorieën!$B$75:$B$94,1,0)))+ROW()/100} -> 100.09 | AB9: {=SMALL($AA$2:$AA$21,ROW()-1)} -> 100.09 | AC9: {=SUM(IF(AB9=$AA$2:$AA$21,$Y$2:$Y$21,0))} -> 8 | AD9: {=IF(ISBLANK(VLOOKUP($AC9,$Y$2:$Z$21,2))=TRUE,"",VLOOKUP($AC9,$Y$2:$Z$21,2))} | AF9: 8 | AG9: =IF(ISBLANK(Categorieën!B104)=TRUE," ",Categorieën!B104) -> begeleiding van leden (verlenen van psychische of materiële ondersteuning) | AH9: {=SUM(IF(ISBLANK(Categorieën!B104)=TRUE,100,IF(Categorieën!B104>Categorieën!$B$97:$B$116,1,0)))+ROW()/100} -> 11.09 | AI9: {=SMALL($AH$2:$AH$21,ROW()-1)} -> 15.05 | AJ9: {=SUM(IF(AI9=$AH$2:$AH$21,$AF$2:$AF$21,0))} -> 4 | AK9: =IF(ISBLANK(VLOOKUP($AJ9,$AF$2:$AG$21,2))=TRUE,"",VLOOKUP($AJ9,$AF$2:$AG$21,2)) -> leveren van voordelen voor deelnemers aan organisaties | AM9: 8 | AN9: =IF(ISBLANK(Categorieën!B126)=TRUE," ",Categorieën!B126) | AO9: {=SUM(IF(ISBLANK(Categorieën!B126)=TRUE,100,IF(Categorieën!B126>Categorieën!$B$119:$B$138,1,0)))+ROW()/100} -> 100.09 | AP9: =SMALL($AO$2:$AO$21,ROW()-1) -> 100.09 | AQ9: {=SUM(IF(AP9=$AO$2:$AO$21,$AM$2:$AM$21,0))} -> 8 | AR9: {=IF(ISBLANK(VLOOKUP($AQ9,$AM$2:$AN$21,2))=TRUE,"",VLOOKUP($AQ9,$AM$2:$AN$21,2))}
D10: 9 | E10: =IF(ISBLANK(Categorieën!B17)=TRUE," ",Categorieën!B17) -> vrijetijdsactiviteiten en interesses: hobby's, sport… | F10: {=SUM(IF(ISBLANK(Categorieën!B17)=TRUE,100,IF(Categorieën!B17>Categorieën!$B$9:$B$28,1,0)))+ROW()/100} -> 19.1 | G10: {=SMALL($F$2:$F$21,ROW()-1)} -> 19.1 | H10: {=SUM(IF(G10=$F$2:$F$21,$D$2:$D$21,0))} -> 9 | I10: =IF(ISBLANK(VLOOKUP($H10,$D$2:$E$21,2))=TRUE,"",VLOOKUP($H10,$D$2:$E$21,2)) -> vrijetijdsactiviteiten en interesses: hobby's, sport… | K10: 9 | L10: =IF(ISBLANK(Categorieën!B39)=TRUE," ",Categorieën!B39) -> medewerkers overheid / federatie | M10: {=SUM(IF(ISBLANK(Categorieën!B39)=TRUE,100,IF(Categorieën!B39>Categorieën!$B$31:$B$50,1,0)))+ROW()/100} -> 14.1 | N10: {=SMALL($M$2:$M$21,ROW()-1)} -> 18.07 | O10: {=SUM(IF(N10=$M$2:$M$21,$K$2:$K$21,0))} -> 6 | P10: {=IF(ISBLANK(VLOOKUP($O10,$K$2:$L$21,2))=TRUE,"",VLOOKUP($O10,$K$2:$L$21,2))} -> sympathisanten | R10: 9 | S10: =IF(ISBLANK(Categorieën!B61)=TRUE," ",Categorieën!B61) | T10: {=SUM(IF(ISBLANK(Categorieën!B61)=TRUE,100,IF(Categorieën!B61>Categorieën!$B$53:$B$72,1,0)))+ROW()/100} -> 100.1 | U10: {=SMALL($T$2:$T$21,ROW()-1)} -> 100.1 | V10: {=SUM(IF(U10=$T$2:$T$21,$R$2:$S$21,0))} -> 9 | W10: {=IF(ISBLANK(VLOOKUP($V10,$R$2:$S$21,2))=TRUE,"",VLOOKUP($V10,$R$2:$S$21,2))} | Y10: 9 | Z10: =IF(ISBLANK(Categorieën!B83)=TRUE," ",Categorieën!B83) | AA10: {=SUM(IF(ISBLANK(Categorieën!B83)=TRUE,100,IF(Categorieën!B83>Categorieën!$B$75:$B$94,1,0)))+ROW()/100} -> 100.1 | AB10: {=SMALL($AA$2:$AA$21,ROW()-1)} -> 100.1 | AC10: {=SUM(IF(AB10=$AA$2:$AA$21,$Y$2:$Y$21,0))} -> 9 | AD10: {=IF(ISBLANK(VLOOKUP($AC10,$Y$2:$Z$21,2))=TRUE,"",VLOOKUP($AC10,$Y$2:$Z$21,2))} | AF10: 9 | AG10: =IF(ISBLANK(Categorieën!B105)=TRUE," ",Categorieën!B105) -> communicatie met leden ( nieuwsbrief, mailing, boekje,…) | AH10: {=SUM(IF(ISBLANK(Categorieën!B105)=TRUE,100,IF(Categorieën!B105>Categorieën!$B$97:$B$116,1,0)))+ROW()/100} -> 13.1 | AI10: {=SMALL($AH$2:$AH$21,ROW()-1)} -> 16.06 | AJ10: {=SUM(IF(AI10=$AH$2:$AH$21,$AF$2:$AF$21,0))} -> 5 | AK10: =IF(ISBLANK(VLOOKUP($AJ10,$AF$2:$AG$21,2))=TRUE,"",VLOOKUP($AJ10,$AF$2:$AG$21,2)) -> marktonderzoek: studies aangaande het vrijetijdsgedrag, voorkeuren ter bepaling van marktstrategieën | AM10: 9 | AN10: =IF(ISBLANK(Categorieën!B127)=TRUE," ",Categorieën!B127) | AO10: {=SUM(IF(ISBLANK(Categorieën!B127)=TRUE,100,IF(Categorieën!B127>Categorieën!$B$119:$B$138,1,0)))+ROW()/100} -> 100.1 | AP10: =SMALL($AO$2:$AO$21,ROW()-1) -> 100.1 | AQ10: {=SUM(IF(AP10=$AO$2:$AO$21,$AM$2:$AM$21,0))} -> 9 | AR10: {=IF(ISBLANK(VLOOKUP($AQ10,$AM$2:$AN$21,2))=TRUE,"",VLOOKUP($AQ10,$AM$2:$AN$21,2))}
D11: 10 | E11: =IF(ISBLANK(Categorieën!B18)=TRUE," ",Categorieën!B18) | F11: {=SUM(IF(ISBLANK(Categorieën!B18)=TRUE,100,IF(Categorieën!B18>Categorieën!$B$9:$B$28,1,0)))+ROW()/100} -> 100.11 | G11: {=SMALL($F$2:$F$21,ROW()-1)} -> 100.11 | H11: {=SUM(IF(G11=$F$2:$F$21,$D$2:$D$21,0))} -> 10 | I11: =IF(ISBLANK(VLOOKUP($H11,$D$2:$E$21,2))=TRUE,"",VLOOKUP($H11,$D$2:$E$21,2)) | K11: 10 | L11: =IF(ISBLANK(Categorieën!B40)=TRUE," ",Categorieën!B40) -> contacten binnen andere organisaties | M11: {=SUM(IF(ISBLANK(Categorieën!B40)=TRUE,100,IF(Categorieën!B40>Categorieën!$B$31:$B$50,1,0)))+ROW()/100} -> 11.11 | N11: {=SMALL($M$2:$M$21,ROW()-1)} -> 19.08 | O11: {=SUM(IF(N11=$M$2:$M$21,$K$2:$K$21,0))} -> 7 | P11: {=IF(ISBLANK(VLOOKUP($O11,$K$2:$L$21,2))=TRUE,"",VLOOKUP($O11,$K$2:$L$21,2))} -> vrijwilligers | R11: 10 | S11: =IF(ISBLANK(Categorieën!B62)=TRUE," ",Categorieën!B62) | T11: {=SUM(IF(ISBLANK(Categorieën!B62)=TRUE,100,IF(Categorieën!B62>Categorieën!$B$53:$B$72,1,0)))+ROW()/100} -> 100.11 | U11: {=SMALL($T$2:$T$21,ROW()-1)} -> 100.11 | V11: {=SUM(IF(U11=$T$2:$T$21,$R$2:$S$21,0))} -> 10 | W11: {=IF(ISBLANK(VLOOKUP($V11,$R$2:$S$21,2))=TRUE,"",VLOOKUP($V11,$R$2:$S$21,2))} | Y11: 10 | Z11: =IF(ISBLANK(Categorieën!B84)=TRUE," ",Categorieën!B84) | AA11: {=SUM(IF(ISBLANK(Categorieën!B84)=TRUE,100,IF(Categorieën!B84>Categorieën!$B$75:$B$94,1,0)))+ROW()/100} -> 100.11 | AB11: {=SMALL($AA$2:$AA$21,ROW()-1)} -> 100.11 | AC11: {=SUM(IF(AB11=$AA$2:$AA$21,$Y$2:$Y$21,0))} -> 10 | AD11: {=IF(ISBLANK(VLOOKUP($AC11,$Y$2:$Z$21,2))=TRUE,"",VLOOKUP($AC11,$Y$2:$Z$21,2))} | AF11: 10 | AG11: =IF(ISBLANK(Categorieën!B106)=TRUE," ",Categorieën!B106) -> leveren van lidkaarten en voordelen aan leden | AH11: {=SUM(IF(ISBLANK(Categorieën!B106)=TRUE,100,IF(Categorieën!B106>Categorieën!$B$97:$B$116,1,0)))+ROW()/100} -> 14.11 | AI11: {=SMALL($AH$2:$AH$21,ROW()-1)} -> 17.12 | AJ11: {=SUM(IF(AI11=$AH$2:$AH$21,$AF$2:$AF$21,0))} -> 11 | AK11: =IF(ISBLANK(VLOOKUP($AJ11,$AF$2:$AG$21,2))=TRUE,"",VLOOKUP($AJ11,$AF$2:$AG$21,2)) -> verzekering leden | AM11: 10 | AN11: =IF(ISBLANK(Categorieën!B128)=TRUE," ",Categorieën!B128) | AO11: {=SUM(IF(ISBLANK(Categorieën!B128)=TRUE,100,IF(Categorieën!B128>Categorieën!$B$119:$B$138,1,0)))+ROW()/100} -> 100.11 | AP11: =SMALL($AO$2:$AO$21,ROW()-1) -> 100.11 | AQ11: {=SUM(IF(AP11=$AO$2:$AO$21,$AM$2:$AM$21,0))} -> 10 | AR11: {=IF(ISBLANK(VLOOKUP($AQ11,$AM$2:$AN$21,2))=TRUE,"",VLOOKUP($AQ11,$AM$2:$AN$21,2))}
D12: 11 | E12: =IF(ISBLANK(Categorieën!B19)=TRUE," ",Categorieën!B19) | F12: {=SUM(IF(ISBLANK(Categorieën!B19)=TRUE,100,IF(Categorieën!B19>Categorieën!$B$9:$B$28,1,0)))+ROW()/100} -> 100.12 | G12: {=SMALL($F$2:$F$21,ROW()-1)} -> 100.12 | H12: {=SUM(IF(G12=$F$2:$F$21,$D$2:$D$21,0))} -> 11 | I12: =IF(ISBLANK(VLOOKUP($H12,$D$2:$E$21,2))=TRUE,"",VLOOKUP($H12,$D$2:$E$21,2)) | K12: 11 | L12: =IF(ISBLANK(Categorieën!B41)=TRUE," ",Categorieën!B41) | M12: {=SUM(IF(ISBLANK(Categorieën!B41)=TRUE,100,IF(Categorieën!B41>Categorieën!$B$31:$B$50,1,0)))+ROW()/100} -> 100.12 | N12: {=SMALL($M$2:$M$21,ROW()-1)} -> 100.12 | O12: {=SUM(IF(N12=$M$2:$M$21,$K$2:$K$21,0))} -> 11 | P12: {=IF(ISBLANK(VLOOKUP($O12,$K$2:$L$21,2))=TRUE,"",VLOOKUP($O12,$K$2:$L$21,2))} | R12: 11 | S12: =IF(ISBLANK(Categorieën!B63)=TRUE," ",Categorieën!B63) | T12: {=SUM(IF(ISBLANK(Categorieën!B63)=TRUE,100,IF(Categorieën!B63>Categorieën!$B$53:$B$72,1,0)))+ROW()/100} -> 100.12 | U12: {=SMALL($T$2:$T$21,ROW()-1)} -> 100.12 | V12: {=SUM(IF(U12=$T$2:$T$21,$R$2:$S$21,0))} -> 11 | W12: {=IF(ISBLANK(VLOOKUP($V12,$R$2:$S$21,2))=TRUE,"",VLOOKUP($V12,$R$2:$S$21,2))} | Y12: 11 | Z12: =IF(ISBLANK(Categorieën!B85)=TRUE," ",Categorieën!B85) | AA12: {=SUM(IF(ISBLANK(Categorieën!B85)=TRUE,100,IF(Categorieën!B85>Categorieën!$B$75:$B$94,1,0)))+ROW()/100} -> 100.12 | AB12: {=SMALL($AA$2:$AA$21,ROW()-1)} -> 100.12 | AC12: {=SUM(IF(AB12=$AA$2:$AA$21,$Y$2:$Y$21,0))} -> 11 | AD12: {=IF(ISBLANK(VLOOKUP($AC12,$Y$2:$Z$21,2))=TRUE,"",VLOOKUP($AC12,$Y$2:$Z$21,2))} | AF12: 11 | AG12: =IF(ISBLANK(Categorieën!B107)=TRUE," ",Categorieën!B107) -> verzekering leden | AH12: {=SUM(IF(ISBLANK(Categorieën!B107)=TRUE,100,IF(Categorieën!B107>Categorieën!$B$97:$B$116,1,0)))+ROW()/100} -> 17.12 | AI12: {=SMALL($AH$2:$AH$21,ROW()-1)} -> 18.07 | AJ12: {=SUM(IF(AI12=$AH$2:$AH$21,$AF$2:$AF$21,0))} -> 6 | AK12: =IF(ISBLANK(VLOOKUP($AJ12,$AF$2:$AG$21,2))=TRUE,"",VLOOKUP($AJ12,$AF$2:$AG$21,2)) -> verzekering van deelnemers aan organisaties | AM12: 11 | AN12: =IF(ISBLANK(Categorieën!B129)=TRUE," ",Categorieën!B129) | AO12: {=SUM(IF(ISBLANK(Categorieën!B129)=TRUE,100,IF(Categorieën!B129>Categorieën!$B$119:$B$138,1,0)))+ROW()/100} -> 100.12 | AP12: =SMALL($AO$2:$AO$21,ROW()-1) -> 100.12 | AQ12: {=SUM(IF(AP12=$AO$2:$AO$21,$AM$2:$AM$21,0))} -> 11 | AR12: {=IF(ISBLANK(VLOOKUP($AQ12,$AM$2:$AN$21,2))=TRUE,"",VLOOKUP($AQ12,$AM$2:$AN$21,2))}
D13: 12 | E13: =IF(ISBLANK(Categorieën!B20)=TRUE," ",Categorieën!B20) | F13: {=SUM(IF(ISBLANK(Categorieën!B20)=TRUE,100,IF(Categorieën!B20>Categorieën!$B$9:$B$28,1,0)))+ROW()/100} -> 100.13 | G13: {=SMALL($F$2:$F$21,ROW()-1)} -> 100.13 | H13: {=SUM(IF(G13=$F$2:$F$21,$D$2:$D$21,0))} -> 12 | I13: =IF(ISBLANK(VLOOKUP($H13,$D$2:$E$21,2))=TRUE,"",VLOOKUP($H13,$D$2:$E$21,2)) | K13: 12 | L13: =IF(ISBLANK(Categorieën!B42)=TRUE," ",Categorieën!B42) | M13: {=SUM(IF(ISBLANK(Categorieën!B42)=TRUE,100,IF(Categorieën!B42>Categorieën!$B$31:$B$50,1,0)))+ROW()/100} -> 100.13 | N13: {=SMALL($M$2:$M$21,ROW()-1)} -> 100.13 | O13: {=SUM(IF(N13=$M$2:$M$21,$K$2:$K$21,0))} -> 12 | P13: {=IF(ISBLANK(VLOOKUP($O13,$K$2:$L$21,2))=TRUE,"",VLOOKUP($O13,$K$2:$L$21,2))} | R13: 12 | S13: =IF(ISBLANK(Categorieën!B64)=TRUE," ",Categorieën!B64) | T13: {=SUM(IF(ISBLANK(Categorieën!B64)=TRUE,100,IF(Categorieën!B64>Categorieën!$B$53:$B$72,1,0)))+ROW()/100} -> 100.13 | U13: {=SMALL($T$2:$T$21,ROW()-1)} -> 100.13 | V13: {=SUM(IF(U13=$T$2:$T$21,$R$2:$S$21,0))} -> 12 | W13: {=IF(ISBLANK(VLOOKUP($V13,$R$2:$S$21,2))=TRUE,"",VLOOKUP($V13,$R$2:$S$21,2))} | Y13: 12 | Z13: =IF(ISBLANK(Categorieën!B86)=TRUE," ",Categorieën!B86) | AA13: {=SUM(IF(ISBLANK(Categorieën!B86)=TRUE,100,IF(Categorieën!B86>Categorieën!$B$75:$B$94,1,0)))+ROW()/100} -> 100.13 | AB13: {=SMALL($AA$2:$AA$21,ROW()-1)} -> 100.13 | AC13: {=SUM(IF(AB13=$AA$2:$AA$21,$Y$2:$Y$21,0))} -> 12 | AD13: {=IF(ISBLANK(VLOOKUP($AC13,$Y$2:$Z$21,2))=TRUE,"",VLOOKUP($AC13,$Y$2:$Z$21,2))} | AF13: 12 | AG13: =IF(ISBLANK(Categorieën!B108)=TRUE," ",Categorieën!B108) -> vorming van leden | AH13: {=SUM(IF(ISBLANK(Categorieën!B108)=TRUE,100,IF(Categorieën!B108>Categorieën!$B$97:$B$116,1,0)))+ROW()/100} -> 19.13 | AI13: {=SMALL($AH$2:$AH$21,ROW()-1)} -> 19.13 | AJ13: {=SUM(IF(AI13=$AH$2:$AH$21,$AF$2:$AF$21,0))} -> 12 | AK13: =IF(ISBLANK(VLOOKUP($AJ13,$AF$2:$AG$21,2))=TRUE,"",VLOOKUP($AJ13,$AF$2:$AG$21,2)) -> vorming van leden | AM13: 12 | AN13: =IF(ISBLANK(Categorieën!B130)=TRUE," ",Categorieën!B130) | AO13: {=SUM(IF(ISBLANK(Categorieën!B130)=TRUE,100,IF(Categorieën!B130>Categorieën!$B$119:$B$138,1,0)))+ROW()/100} -> 100.13 | AP13: =SMALL($AO$2:$AO$21,ROW()-1) -> 100.13 | AQ13: {=SUM(IF(AP13=$AO$2:$AO$21,$AM$2:$AM$21,0))} -> 12 | AR13: {=IF(ISBLANK(VLOOKUP($AQ13,$AM$2:$AN$21,2))=TRUE,"",VLOOKUP($AQ13,$AM$2:$AN$21,2))}
D14: 13 | E14: =IF(ISBLANK(Categorieën!B21)=TRUE," ",Categorieën!B21) | F14: {=SUM(IF(ISBLANK(Categorieën!B21)=TRUE,100,IF(Categorieën!B21>Categorieën!$B$9:$B$28,1,0)))+ROW()/100} -> 100.14 | G14: {=SMALL($F$2:$F$21,ROW()-1)} -> 100.14 | H14: {=SUM(IF(G14=$F$2:$F$21,$D$2:$D$21,0))} -> 13 | I14: =IF(ISBLANK(VLOOKUP($H14,$D$2:$E$21,2))=TRUE,"",VLOOKUP($H14,$D$2:$E$21,2)) | K14: 13 | L14: =IF(ISBLANK(Categorieën!B43)=TRUE," ",Categorieën!B43) | M14: {=SUM(IF(ISBLANK(Categorieën!B43)=TRUE,100,IF(Categorieën!B43>Categorieën!$B$31:$B$50,1,0)))+ROW()/100} -> 100.14 | N14: {=SMALL($M$2:$M$21,ROW()-1)} -> 100.14 | O14: {=SUM(IF(N14=$M$2:$M$21,$K$2:$K$21,0))} -> 13 | P14: {=IF(ISBLANK(VLOOKUP($O14,$K$2:$L$21,2))=TRUE,"",VLOOKUP($O14,$K$2:$L$21,2))} | R14: 13 | S14: =IF(ISBLANK(Categorieën!B65)=TRUE," ",Categorieën!B65) | T14: {=SUM(IF(ISBLANK(Categorieën!B65)=TRUE,100,IF(Categorieën!B65>Categorieën!$B$53:$B$72,1,0)))+ROW()/100} -> 100.14 | U14: {=SMALL($T$2:$T$21,ROW()-1)} -> 100.14 | V14: {=SUM(IF(U14=$T$2:$T$21,$R$2:$S$21,0))} -> 13 | W14: {=IF(ISBLANK(VLOOKUP($V14,$R$2:$S$21,2))=TRUE,"",VLOOKUP($V14,$R$2:$S$21,2))} | Y14: 13 | Z14: =IF(ISBLANK(Categorieën!B87)=TRUE," ",Categorieën!B87) | AA14: {=SUM(IF(ISBLANK(Categorieën!B87)=TRUE,100,IF(Categorieën!B87>Categorieën!$B$75:$B$94,1,0)))+ROW()/100} -> 100.14 | AB14: {=SMALL($AA$2:$AA$21,ROW()-1)} -> 100.14 | AC14: {=SUM(IF(AB14=$AA$2:$AA$21,$Y$2:$Y$21,0))} -> 13 | AD14: {=IF(ISBLANK(VLOOKUP($AC14,$Y$2:$Z$21,2))=TRUE,"",VLOOKUP($AC14,$Y$2:$Z$21,2))} | AF14: 13 | AG14: =IF(ISBLANK(Categorieën!B109)=TRUE," ",Categorieën!B109) | AH14: {=SUM(IF(ISBLANK(Categorieën!B109)=TRUE,100,IF(Categorieën!B109>Categorieën!$B$97:$B$116,1,0)))+ROW()/100} -> 100.14 | AI14: {=SMALL($AH$2:$AH$21,ROW()-1)} -> 100.14 | AJ14: {=SUM(IF(AI14=$AH$2:$AH$21,$AF$2:$AF$21,0))} -> 13 | AK14: =IF(ISBLANK(VLOOKUP($AJ14,$AF$2:$AG$21,2))=TRUE,"",VLOOKUP($AJ14,$AF$2:$AG$21,2)) | AM14: 13 | AN14: =IF(ISBLANK(Categorieën!B131)=TRUE," ",Categorieën!B131) | AO14: {=SUM(IF(ISBLANK(Categorieën!B131)=TRUE,100,IF(Categorieën!B131>Categorieën!$B$119:$B$138,1,0)))+ROW()/100} -> 100.14 | AP14: =SMALL($AO$2:$AO$21,ROW()-1) -> 100.14 | AQ14: {=SUM(IF(AP14=$AO$2:$AO$21,$AM$2:$AM$21,0))} -> 13 | AR14: {=IF(ISBLANK(VLOOKUP($AQ14,$AM$2:$AN$21,2))=TRUE,"",VLOOKUP($AQ14,$AM$2:$AN$21,2))}
D15: 14 | E15: =IF(ISBLANK(Categorieën!B22)=TRUE," ",Categorieën!B22) | F15: {=SUM(IF(ISBLANK(Categorieën!B22)=TRUE,100,IF(Categorieën!B22>Categorieën!$B$9:$B$28,1,0)))+ROW()/100} -> 100.15 | G15: {=SMALL($F$2:$F$21,ROW()-1)} -> 100.15 | H15: {=SUM(IF(G15=$F$2:$F$21,$D$2:$D$21,0))} -> 14 | I15: =IF(ISBLANK(VLOOKUP($H15,$D$2:$E$21,2))=TRUE,"",VLOOKUP($H15,$D$2:$E$21,2)) | K15: 14 | L15: =IF(ISBLANK(Categorieën!B44)=TRUE," ",Categorieën!B44) | M15: {=SUM(IF(ISBLANK(Categorieën!B44)=TRUE,100,IF(Categorieën!B44>Categorieën!$B$31:$B$50,1,0)))+ROW()/100} -> 100.15 | N15: {=SMALL($M$2:$M$21,ROW()-1)} -> 100.15 | O15: {=SUM(IF(N15=$M$2:$M$21,$K$2:$K$21,0))} -> 14 | P15: {=IF(ISBLANK(VLOOKUP($O15,$K$2:$L$21,2))=TRUE,"",VLOOKUP($O15,$K$2:$L$21,2))} | R15: 14 | S15: =IF(ISBLANK(Categorieën!B66)=TRUE," ",Categorieën!B66) | T15: {=SUM(IF(ISBLANK(Categorieën!B66)=TRUE,100,IF(Categorieën!B66>Categorieën!$B$53:$B$72,1,0)))+ROW()/100} -> 100.15 | U15: {=SMALL($T$2:$T$21,ROW()-1)} -> 100.15 | V15: {=SUM(IF(U15=$T$2:$T$21,$R$2:$S$21,0))} -> 14 | W15: {=IF(ISBLANK(VLOOKUP($V15,$R$2:$S$21,2))=TRUE,"",VLOOKUP($V15,$R$2:$S$21,2))} | Y15: 14 | Z15: =IF(ISBLANK(Categorieën!B88)=TRUE," ",Categorieën!B88) | AA15: {=SUM(IF(ISBLANK(Categorieën!B88)=TRUE,100,IF(Categorieën!B88>Categorieën!$B$75:$B$94,1,0)))+ROW()/100} -> 100.15 | AB15: {=SMALL($AA$2:$AA$21,ROW()-1)} -> 100.15 | AC15: {=SUM(IF(AB15=$AA$2:$AA$21,$Y$2:$Y$21,0))} -> 14 | AD15: {=IF(ISBLANK(VLOOKUP($AC15,$Y$2:$Z$21,2))=TRUE,"",VLOOKUP($AC15,$Y$2:$Z$21,2))} | AF15: 14 | AG15: =IF(ISBLANK(Categorieën!B110)=TRUE," ",Categorieën!B110) | AH15: {=SUM(IF(ISBLANK(Categorieën!B110)=TRUE,100,IF(Categorieën!B110>Categorieën!$B$97:$B$116,1,0)))+ROW()/100} -> 100.15 | AI15: {=SMALL($AH$2:$AH$21,ROW()-1)} -> 100.15 | AJ15: {=SUM(IF(AI15=$AH$2:$AH$21,$AF$2:$AF$21,0))} -> 14 | AK15: =IF(ISBLANK(VLOOKUP($AJ15,$AF$2:$AG$21,2))=TRUE,"",VLOOKUP($AJ15,$AF$2:$AG$21,2)) | AM15: 14 | AN15: =IF(ISBLANK(Categorieën!B132)=TRUE," ",Categorieën!B132) | AO15: {=SUM(IF(ISBLANK(Categorieën!B132)=TRUE,100,IF(Categorieën!B132>Categorieën!$B$119:$B$138,1,0)))+ROW()/100} -> 100.15 | AP15: =SMALL($AO$2:$AO$21,ROW()-1) -> 100.15 | AQ15: {=SUM(IF(AP15=$AO$2:$AO$21,$AM$2:$AM$21,0))} -> 14 | AR15: {=IF(ISBLANK(VLOOKUP($AQ15,$AM$2:$AN$21,2))=TRUE,"",VLOOKUP($AQ15,$AM$2:$AN$21,2))}
D16: 15 | E16: =IF(ISBLANK(Categorieën!B23)=TRUE," ",Categorieën!B23) | F16: {=SUM(IF(ISBLANK(Categorieën!B23)=TRUE,100,IF(Categorieën!B23>Categorieën!$B$9:$B$28,1,0)))+ROW()/100} -> 100.16 | G16: {=SMALL($F$2:$F$21,ROW()-1)} -> 100.16 | H16: {=SUM(IF(G16=$F$2:$F$21,$D$2:$D$21,0))} -> 15 | I16: =IF(ISBLANK(VLOOKUP($H16,$D$2:$E$21,2))=TRUE,"",VLOOKUP($H16,$D$2:$E$21,2)) | K16: 15 | L16: =IF(ISBLANK(Categorieën!B45)=TRUE," ",Categorieën!B45) | M16: {=SUM(IF(ISBLANK(Categorieën!B45)=TRUE,100,IF(Categorieën!B45>Categorieën!$B$31:$B$50,1,0)))+ROW()/100} -> 100.16 | N16: {=SMALL($M$2:$M$21,ROW()-1)} -> 100.16 | O16: {=SUM(IF(N16=$M$2:$M$21,$K$2:$K$21,0))} -> 15 | P16: {=IF(ISBLANK(VLOOKUP($O16,$K$2:$L$21,2))=TRUE,"",VLOOKUP($O16,$K$2:$L$21,2))} | R16: 15 | S16: =IF(ISBLANK(Categorieën!B67)=TRUE," ",Categorieën!B67) | T16: {=SUM(IF(ISBLANK(Categorieën!B67)=TRUE,100,IF(Categorieën!B67>Categorieën!$B$53:$B$72,1,0)))+ROW()/100} -> 100.16 | U16: {=SMALL($T$2:$T$21,ROW()-1)} -> 100.16 | V16: {=SUM(IF(U16=$T$2:$T$21,$R$2:$S$21,0))} -> 15 | W16: {=IF(ISBLANK(VLOOKUP($V16,$R$2:$S$21,2))=TRUE,"",VLOOKUP($V16,$R$2:$S$21,2))} | Y16: 15 | Z16: =IF(ISBLANK(Categorieën!B89)=TRUE," ",Categorieën!B89) | AA16: {=SUM(IF(ISBLANK(Categorieën!B89)=TRUE,100,IF(Categorieën!B89>Categorieën!$B$75:$B$94,1,0)))+ROW()/100} -> 100.16 | AB16: {=SMALL($AA$2:$AA$21,ROW()-1)} -> 100.16 | AC16: {=SUM(IF(AB16=$AA$2:$AA$21,$Y$2:$Y$21,0))} -> 15 | AD16: {=IF(ISBLANK(VLOOKUP($AC16,$Y$2:$Z$21,2))=TRUE,"",VLOOKUP($AC16,$Y$2:$Z$21,2))} | AF16: 15 | AG16: =IF(ISBLANK(Categorieën!B111)=TRUE," ",Categorieën!B111) | AH16: {=SUM(IF(ISBLANK(Categorieën!B111)=TRUE,100,IF(Categorieën!B111>Categorieën!$B$97:$B$116,1,0)))+ROW()/100} -> 100.16 | AI16: {=SMALL($AH$2:$AH$21,ROW()-1)} -> 100.16 | AJ16: {=SUM(IF(AI16=$AH$2:$AH$21,$AF$2:$AF$21,0))} -> 15 | AK16: =IF(ISBLANK(VLOOKUP($AJ16,$AF$2:$AG$21,2))=TRUE,"",VLOOKUP($AJ16,$AF$2:$AG$21,2)) | AM16: 15 | AN16: =IF(ISBLANK(Categorieën!B133)=TRUE," ",Categorieën!B133) | AO16: {=SUM(IF(ISBLANK(Categorieën!B133)=TRUE,100,IF(Categorieën!B133>Categorieën!$B$119:$B$138,1,0)))+ROW()/100} -> 100.16 | AP16: =SMALL($AO$2:$AO$21,ROW()-1) -> 100.16 | AQ16: {=SUM(IF(AP16=$AO$2:$AO$21,$AM$2:$AM$21,0))} -> 15 | AR16: {=IF(ISBLANK(VLOOKUP($AQ16,$AM$2:$AN$21,2))=TRUE,"",VLOOKUP($AQ16,$AM$2:$AN$21,2))}
D17: 16 | E17: =IF(ISBLANK(Categorieën!B24)=TRUE," ",Categorieën!B24) | F17: {=SUM(IF(ISBLANK(Categorieën!B24)=TRUE,100,IF(Categorieën!B24>Categorieën!$B$9:$B$28,1,0)))+ROW()/100} -> 100.17 | G17: {=SMALL($F$2:$F$21,ROW()-1)} -> 100.17 | H17: {=SUM(IF(G17=$F$2:$F$21,$D$2:$D$21,0))} -> 16 | I17: =IF(ISBLANK(VLOOKUP($H17,$D$2:$E$21,2))=TRUE,"",VLOOKUP($H17,$D$2:$E$21,2)) | K17: 16 | L17: =IF(ISBLANK(Categorieën!B46)=TRUE," ",Categorieën!B46) | M17: {=SUM(IF(ISBLANK(Categorieën!B46)=TRUE,100,IF(Categorieën!B46>Categorieën!$B$31:$B$50,1,0)))+ROW()/100} -> 100.17 | N17: {=SMALL($M$2:$M$21,ROW()-1)} -> 100.17 | O17: {=SUM(IF(N17=$M$2:$M$21,$K$2:$K$21,0))} -> 16 | P17: {=IF(ISBLANK(VLOOKUP($O17,$K$2:$L$21,2))=TRUE,"",VLOOKUP($O17,$K$2:$L$21,2))} | R17: 16 | S17: =IF(ISBLANK(Categorieën!B68)=TRUE," ",Categorieën!B68) | T17: {=SUM(IF(ISBLANK(Categorieën!B68)=TRUE,100,IF(Categorieën!B68>Categorieën!$B$53:$B$72,1,0)))+ROW()/100} -> 100.17 | U17: {=SMALL($T$2:$T$21,ROW()-1)} -> 100.17 | V17: {=SUM(IF(U17=$T$2:$T$21,$R$2:$S$21,0))} -> 16 | W17: {=IF(ISBLANK(VLOOKUP($V17,$R$2:$S$21,2))=TRUE,"",VLOOKUP($V17,$R$2:$S$21,2))} | Y17: 16 | Z17: =IF(ISBLANK(Categorieën!B90)=TRUE," ",Categorieën!B90) | AA17: {=SUM(IF(ISBLANK(Categorieën!B90)=TRUE,100,IF(Categorieën!B90>Categorieën!$B$75:$B$94,1,0)))+ROW()/100} -> 100.17 | AB17: {=SMALL($AA$2:$AA$21,ROW()-1)} -> 100.17 | AC17: {=SUM(IF(AB17=$AA$2:$AA$21,$Y$2:$Y$21,0))} -> 16 | AD17: {=IF(ISBLANK(VLOOKUP($AC17,$Y$2:$Z$21,2))=TRUE,"",VLOOKUP($AC17,$Y$2:$Z$21,2))} | AF17: 16 | AG17: =IF(ISBLANK(Categorieën!B112)=TRUE," ",Categorieën!B112) | AH17: {=SUM(IF(ISBLANK(Categorieën!B112)=TRUE,100,IF(Categorieën!B112>Categorieën!$B$97:$B$116,1,0)))+ROW()/100} -> 100.17 | AI17: {=SMALL($AH$2:$AH$21,ROW()-1)} -> 100.17 | AJ17: {=SUM(IF(AI17=$AH$2:$AH$21,$AF$2:$AF$21,0))} -> 16 | AK17: =IF(ISBLANK(VLOOKUP($AJ17,$AF$2:$AG$21,2))=TRUE,"",VLOOKUP($AJ17,$AF$2:$AG$21,2)) | AM17: 16 | AN17: =IF(ISBLANK(Categorieën!B134)=TRUE," ",Categorieën!B134) | AO17: {=SUM(IF(ISBLANK(Categorieën!B134)=TRUE,100,IF(Categorieën!B134>Categorieën!$B$119:$B$138,1,0)))+ROW()/100} -> 100.17 | AP17: =SMALL($AO$2:$AO$21,ROW()-1) -> 100.17 | AQ17: {=SUM(IF(AP17=$AO$2:$AO$21,$AM$2:$AM$21,0))} -> 16 | AR17: {=IF(ISBLANK(VLOOKUP($AQ17,$AM$2:$AN$21,2))=TRUE,"",VLOOKUP($AQ17,$AM$2:$AN$21,2))}
D18: 17 | E18: =IF(ISBLANK(Categorieën!B25)=TRUE," ",Categorieën!B25) | F18: {=SUM(IF(ISBLANK(Categorieën!B25)=TRUE,100,IF(Categorieën!B25>Categorieën!$B$9:$B$28,1,0)))+ROW()/100} -> 100.18 | G18: {=SMALL($F$2:$F$21,ROW()-1)} -> 100.18 | H18: {=SUM(IF(G18=$F$2:$F$21,$D$2:$D$21,0))} -> 17 | I18: =IF(ISBLANK(VLOOKUP($H18,$D$2:$E$21,2))=TRUE,"",VLOOKUP($H18,$D$2:$E$21,2)) | K18: 17 | L18: =IF(ISBLANK(Categorieën!B47)=TRUE," ",Categorieën!B47) | M18: {=SUM(IF(ISBLANK(Categorieën!B47)=TRUE,100,IF(Categorieën!B47>Categorieën!$B$31:$B$50,1,0)))+ROW()/100} -> 100.18 | N18: {=SMALL($M$2:$M$21,ROW()-1)} -> 100.18 | O18: {=SUM(IF(N18=$M$2:$M$21,$K$2:$K$21,0))} -> 17 | P18: {=IF(ISBLANK(VLOOKUP($O18,$K$2:$L$21,2))=TRUE,"",VLOOKUP($O18,$K$2:$L$21,2))} | R18: 17 | S18: =IF(ISBLANK(Categorieën!B69)=TRUE," ",Categorieën!B69) | T18: {=SUM(IF(ISBLANK(Categorieën!B69)=TRUE,100,IF(Categorieën!B69>Categorieën!$B$53:$B$72,1,0)))+ROW()/100} -> 100.18 | U18: {=SMALL($T$2:$T$21,ROW()-1)} -> 100.18 | V18: {=SUM(IF(U18=$T$2:$T$21,$R$2:$S$21,0))} -> 17 | W18: {=IF(ISBLANK(VLOOKUP($V18,$R$2:$S$21,2))=TRUE,"",VLOOKUP($V18,$R$2:$S$21,2))} | Y18: 17 | Z18: =IF(ISBLANK(Categorieën!B91)=TRUE," ",Categorieën!B91) | AA18: {=SUM(IF(ISBLANK(Categorieën!B91)=TRUE,100,IF(Categorieën!B91>Categorieën!$B$75:$B$94,1,0)))+ROW()/100} -> 100.18 | AB18: {=SMALL($AA$2:$AA$21,ROW()-1)} -> 100.18 | AC18: {=SUM(IF(AB18=$AA$2:$AA$21,$Y$2:$Y$21,0))} -> 17 | AD18: {=IF(ISBLANK(VLOOKUP($AC18,$Y$2:$Z$21,2))=TRUE,"",VLOOKUP($AC18,$Y$2:$Z$21,2))} | AF18: 17 | AG18: =IF(ISBLANK(Categorieën!B113)=TRUE," ",Categorieën!B113) | AH18: {=SUM(IF(ISBLANK(Categorieën!B113)=TRUE,100,IF(Categorieën!B113>Categorieën!$B$97:$B$116,1,0)))+ROW()/100} -> 100.18 | AI18: {=SMALL($AH$2:$AH$21,ROW()-1)} -> 100.18 | AJ18: {=SUM(IF(AI18=$AH$2:$AH$21,$AF$2:$AF$21,0))} -> 17 | AK18: =IF(ISBLANK(VLOOKUP($AJ18,$AF$2:$AG$21,2))=TRUE,"",VLOOKUP($AJ18,$AF$2:$AG$21,2)) | AM18: 17 | AN18: =IF(ISBLANK(Categorieën!B135)=TRUE," ",Categorieën!B135) | AO18: {=SUM(IF(ISBLANK(Categorieën!B135)=TRUE,100,IF(Categorieën!B135>Categorieën!$B$119:$B$138,1,0)))+ROW()/100} -> 100.18 | AP18: =SMALL($AO$2:$AO$21,ROW()-1) -> 100.18 | AQ18: {=SUM(IF(AP18=$AO$2:$AO$21,$AM$2:$AM$21,0))} -> 17 | AR18: {=IF(ISBLANK(VLOOKUP($AQ18,$AM$2:$AN$21,2))=TRUE,"",VLOOKUP($AQ18,$AM$2:$AN$21,2))}
D19: 18 | E19: =IF(ISBLANK(Categorieën!B26)=TRUE," ",Categorieën!B26) | F19: {=SUM(IF(ISBLANK(Categorieën!B26)=TRUE,100,IF(Categorieën!B26>Categorieën!$B$9:$B$28,1,0)))+ROW()/100} -> 100.19 | G19: {=SMALL($F$2:$F$21,ROW()-1)} -> 100.19 | H19: {=SUM(IF(G19=$F$2:$F$21,$D$2:$D$21,0))} -> 18 | I19: =IF(ISBLANK(VLOOKUP($H19,$D$2:$E$21,2))=TRUE,"",VLOOKUP($H19,$D$2:$E$21,2)) | K19: 18 | L19: =IF(ISBLANK(Categorieën!B48)=TRUE," ",Categorieën!B48) | M19: {=SUM(IF(ISBLANK(Categorieën!B48)=TRUE,100,IF(Categorieën!B48>Categorieën!$B$31:$B$50,1,0)))+ROW()/100} -> 100.19 | N19: {=SMALL($M$2:$M$21,ROW()-1)} -> 100.19 | O19: {=SUM(IF(N19=$M$2:$M$21,$K$2:$K$21,0))} -> 18 | P19: {=IF(ISBLANK(VLOOKUP($O19,$K$2:$L$21,2))=TRUE,"",VLOOKUP($O19,$K$2:$L$21,2))} | R19: 18 | S19: =IF(ISBLANK(Categorieën!B70)=TRUE," ",Categorieën!B70) | T19: {=SUM(IF(ISBLANK(Categorieën!B70)=TRUE,100,IF(Categorieën!B70>Categorieën!$B$53:$B$72,1,0)))+ROW()/100} -> 100.19 | U19: {=SMALL($T$2:$T$21,ROW()-1)} -> 100.19 | V19: {=SUM(IF(U19=$T$2:$T$21,$R$2:$S$21,0))} -> 18 | W19: {=IF(ISBLANK(VLOOKUP($V19,$R$2:$S$21,2))=TRUE,"",VLOOKUP($V19,$R$2:$S$21,2))} | Y19: 18 | Z19: =IF(ISBLANK(Categorieën!B92)=TRUE," ",Categorieën!B92) | AA19: {=SUM(IF(ISBLANK(Categorieën!B92)=TRUE,100,IF(Categorieën!B92>Categorieën!$B$75:$B$94,1,0)))+ROW()/100} -> 100.19 | AB19: {=SMALL($AA$2:$AA$21,ROW()-1)} -> 100.19 | AC19: {=SUM(IF(AB19=$AA$2:$AA$21,$Y$2:$Y$21,0))} -> 18 | AD19: {=IF(ISBLANK(VLOOKUP($AC19,$Y$2:$Z$21,2))=TRUE,"",VLOOKUP($AC19,$Y$2:$Z$21,2))} | AF19: 18 | AG19: =IF(ISBLANK(Categorieën!B114)=TRUE," ",Categorieën!B114) | AH19: {=SUM(IF(ISBLANK(Categorieën!B114)=TRUE,100,IF(Categorieën!B114>Categorieën!$B$97:$B$116,1,0)))+ROW()/100} -> 100.19 | AI19: {=SMALL($AH$2:$AH$21,ROW()-1)} -> 100.19 | AJ19: {=SUM(IF(AI19=$AH$2:$AH$21,$AF$2:$AF$21,0))} -> 18 | AK19: =IF(ISBLANK(VLOOKUP($AJ19,$AF$2:$AG$21,2))=TRUE,"",VLOOKUP($AJ19,$AF$2:$AG$21,2)) | AM19: 18 | AN19: =IF(ISBLANK(Categorieën!B136)=TRUE," ",Categorieën!B136) | AO19: {=SUM(IF(ISBLANK(Categorieën!B136)=TRUE,100,IF(Categorieën!B136>Categorieën!$B$119:$B$138,1,0)))+ROW()/100} -> 100.19 | AP19: =SMALL($AO$2:$AO$21,ROW()-1) -> 100.19 | AQ19: {=SUM(IF(AP19=$AO$2:$AO$21,$AM$2:$AM$21,0))} -> 18 | AR19: {=IF(ISBLANK(VLOOKUP($AQ19,$AM$2:$AN$21,2))=TRUE,"",VLOOKUP($AQ19,$AM$2:$AN$21,2))}
... D21: 20 | E21: =IF(ISBLANK(Categorieën!B28)=TRUE," ",Categorieën!B28) | F21: {=SUM(IF(ISBLANK(Categorieën!B28)=TRUE,100,IF(Categorieën!B28>Categorieën!$B$9:$B$28,1,0)))+ROW()/100} -> 100.21 | G21: {=SMALL($F$2:$F$21,ROW()-1)} -> 100.21 | H21: {=SUM(IF(G21=$F$2:$F$21,$D$2:$D$21,0))} -> 20 | I21: =IF(ISBLANK(VLOOKUP($H21,$D$2:$E$21,2))=TRUE,"",VLOOKUP($H21,$D$2:$E$21,2)) | K21: 20 | L21: =IF(ISBLANK(Categorieën!B50)=TRUE," ",Categorieën!B50) | M21: {=SUM(IF(ISBLANK(Categorieën!B50)=TRUE,100,IF(Categorieën!B50>Categorieën!$B$31:$B$50,1,0)))+ROW()/100} -> 100.21 | N21: {=SMALL($M$2:$M$21,ROW()-1)} -> 100.21 | O21: {=SUM(IF(N21=$M$2:$M$21,$K$2:$K$21,0))} -> 20 | P21: {=IF(ISBLANK(VLOOKUP($O21,$K$2:$L$21,2))=TRUE,"",VLOOKUP($O21,$K$2:$L$21,2))} | R21: 20 | S21: =IF(ISBLANK(Categorieën!B72)=TRUE," ",Categorieën!B72) | T21: {=SUM(IF(ISBLANK(Categorieën!B72)=TRUE,100,IF(Categorieën!B72>Categorieën!$B$53:$B$72,1,0)))+ROW()/100} -> 100.21 | U21: {=SMALL($T$2:$T$21,ROW()-1)} -> 100.21 | V21: {=SUM(IF(U21=$T$2:$T$21,$R$2:$S$21,0))} -> 20 | W21: {=IF(ISBLANK(VLOOKUP($V21,$R$2:$S$21,2))=TRUE,"",VLOOKUP($V21,$R$2:$S$21,2))} | Y21: 20 | Z21: =IF(ISBLANK(Categorieën!B94)=TRUE," ",Categorieën!B94) | AA21: {=SUM(IF(ISBLANK(Categorieën!B94)=TRUE,100,IF(Categorieën!B94>Categorieën!$B$75:$B$94,1,0)))+ROW()/100} -> 100.21 | AB21: {=SMALL($AA$2:$AA$21,ROW()-1)} -> 100.21 | AC21: {=SUM(IF(AB21=$AA$2:$AA$21,$Y$2:$Y$21,0))} -> 20 | AD21: {=IF(ISBLANK(VLOOKUP($AC21,$Y$2:$Z$21,2))=TRUE,"",VLOOKUP($AC21,$Y$2:$Z$21,2))} | AF21: 20 | AG21: =IF(ISBLANK(Categorieën!B116)=TRUE," ",Categorieën!B116) | AH21: {=SUM(IF(ISBLANK(Categorieën!B116)=TRUE,100,IF(Categorieën!B116>Categorieën!$B$97:$B$116,1,0)))+ROW()/100} -> 100.21 | AI21: {=SMALL($AH$2:$AH$21,ROW()-1)} -> 100.21 | AJ21: {=SUM(IF(AI21=$AH$2:$AH$21,$AF$2:$AF$21,0))} -> 20 | AK21: =IF(ISBLANK(VLOOKUP($AJ21,$AF$2:$AG$21,2))=TRUE,"",VLOOKUP($AJ21,$AF$2:$AG$21,2)) | AM21: 20 | AN21: =IF(ISBLANK(Categorieën!B138)=TRUE," ",Categorieën!B138) | AO21: {=SUM(IF(ISBLANK(Categorieën!B138)=TRUE,100,IF(Categorieën!B138>Categorieën!$B$119:$B$138,1,0)))+ROW()/100} -> 100.21 | AP21: =SMALL($AO$2:$AO$21,ROW()-1) -> 100.21 | AQ21: {=SUM(IF(AP21=$AO$2:$AO$21,$AM$2:$AM$21,0))} -> 20 | AR21: {=IF(ISBLANK(VLOOKUP($AQ21,$AM$2:$AN$21,2))=TRUE,"",VLOOKUP($AQ21,$AM$2:$AN$21,2))}
